BEGIN:VCALENDAR
VERSION:2.0
PRODID:-//The Catholic Archdiocese of Edmonton - CAEDM - ECPv6.15.20//NONSGML v1.0//EN
CALSCALE:GREGORIAN
METHOD:PUBLISH
X-ORIGINAL-URL:https://caedm.ca
X-WR-CALDESC:Events for The Catholic Archdiocese of Edmonton - CAEDM
REFRESH-INTERVAL;VALUE=DURATION:PT1H
X-Robots-Tag:noindex
X-PUBLISHED-TTL:PT1H
BEGIN:VTIMEZONE
TZID:America/Edmonton
BEGIN:DAYLIGHT
TZOFFSETFROM:-0700
TZOFFSETTO:-0600
TZNAME:MDT
DTSTART:20250309T090000
END:DAYLIGHT
BEGIN:STANDARD
TZOFFSETFROM:-0600
TZOFFSETTO:-0700
TZNAME:MST
DTSTART:20251102T080000
END:STANDARD
BEGIN:DAYLIGHT
TZOFFSETFROM:-0700
TZOFFSETTO:-0600
TZNAME:MDT
DTSTART:20260308T090000
END:DAYLIGHT
BEGIN:STANDARD
TZOFFSETFROM:-0600
TZOFFSETTO:-0700
TZNAME:MST
DTSTART:20261101T080000
END:STANDARD
BEGIN:DAYLIGHT
TZOFFSETFROM:-0700
TZOFFSETTO:-0600
TZNAME:MDT
DTSTART:20270314T090000
END:DAYLIGHT
BEGIN:STANDARD
TZOFFSETFROM:-0600
TZOFFSETTO:-0700
TZNAME:MST
DTSTART:20271107T080000
END:STANDARD
END:VTIMEZONE
BEGIN:VEVENT
DTSTART;TZID=America/Edmonton:20260423T090000
DTEND;TZID=America/Edmonton:20260423T160000
DTSTAMP:20260421T081544
CREATED:20260324T171653Z
LAST-MODIFIED:20260416T204540Z
UID:10000290-1776934800-1776960000@caedm.ca
SUMMARY:Love Them to the End: An Activation Workshop for Clergy\, Seminarians\, Lay Chaplains and Pastoral Staff
DESCRIPTION:April 23\, 9 am – 4 pm \nCorpus Christi Parish\, 2707-34 Street NW\, Edmonton \nLivestream: https://youtube.com/live/E08Y3AkG7SA \nFacilitated by: Amanda Achtman \n\nCan a Catholic who is considering euthanasia (“MAID”) receive Anointing of the Sick and Last Rites?\nCan a Catholic who dies by “MAID” receive a Catholic funeral and burial?\nWhy is it wrong to be present at a euthanasia death?\nWhat is palliative care?\n\nCome explore these questions and more! The workshop will focus on equipping clergy and laity through targeted training\, robust catechesis\, and hope-oriented pastoral approaches to counter “MAiD’s” cultural normalization\, while upholding Church teaching on the sanctity of life\, accompaniment in suffering\, and natural death. Emphasis will be on proactive\, positive witness rather than solely reactive prohibition. \nNo cost. Lunch provided. \nRegistration is required. Click here to register: https://docs.google.com/forms/d/e/1FAIpQLScAkjo-uNOAtdfNHz6MRt_gdhX3wkPuWgnPamv1mpKZsmI_xg/viewform?usp=sharing&ouid=116405888710518329557 \nRegistration deadline: April 17
URL:https://caedm.ca/event/love-them-to-the-end-an-activation-workshop-for-clergy-seminarians-lay-chaplains-and-pastoral-staff/
LOCATION:Corpus Christi – Edmonton\, 2707 34 St NW\, Edmonton\, Alberta\, T6T 1P5\, Canada
CATEGORIES:Faith Formation,Retreats and Workshops
END:VEVENT
BEGIN:VEVENT
DTSTART;TZID=America/Edmonton:20260423T180000
DTEND;TZID=America/Edmonton:20260423T203000
DTSTAMP:20260421T081544
CREATED:20260410T173303Z
LAST-MODIFIED:20260415T151637Z
UID:10000312-1776967200-1776976200@caedm.ca
SUMMARY:Offering Hope & Dignity in Your Parish: An Activation Workshop for Parish Leaders
DESCRIPTION:An Activation Workshop for Parish Leaders \nThursday\, April 23 from 6-8:30 pm at Corpus Christi\, 2707 34 Street\, Edmonton\nIncludes a light supper | Online option available\nREGISTER AT:  forms.gle/TRxHLhA8griDB4KLA \nLooking ahead to Year Two of your Parish Pastoral Priorities Plan? This workshop will help you take the next step. \nJoin us for a dynamic\, hands-on session designed to help parish leaders integrate the theme of Hope and Dignity directly into your parish plan—bringing the Archdiocese of Edmonton’s Pastoral Priorities to life through concrete action. \nAs part of Hope and Dignity Activation Week\, explore how your parish can respond to euthanasia and assisted suicide with compassion\, faith\,\nand practical initiatives rooted in the three Pastoral Priorities: \n\nFormation for Eucharistic Worship\,\nFormation for Confident Witness\, and\nFormation for Service to Marriage and Family.\n\nFeaturing guest speaker Amanda Achtman\, this evening will offer both inspiration and practical tools to help your parish become a place of accompaniment\, hope\, and dignity.
URL:https://caedm.ca/event/offering-hope-dignity-in-your-parish-an-activation-workshop-for-parish-leaders/
LOCATION:Corpus Christi – Edmonton\, 2707 34 St NW\, Edmonton\, Alberta\, T6T 1P5\, Canada
CATEGORIES:Retreats and Workshops
ATTACH;FMTTYPE=image/webp:https://caedm.ca/wp-content/uploads/2026/04/Parish-Activation-Workshop-poster.webp
END:VEVENT
END:VCALENDAR