BEGIN:VCALENDAR
VERSION:2.0
PRODID:-//The Catholic Archdiocese of Edmonton - CAEDM - ECPv6.15.20//NONSGML v1.0//EN
CALSCALE:GREGORIAN
METHOD:PUBLISH
X-WR-CALNAME:The Catholic Archdiocese of Edmonton - CAEDM
X-ORIGINAL-URL:https://caedm.ca
X-WR-CALDESC:Events for The Catholic Archdiocese of Edmonton - CAEDM
REFRESH-INTERVAL;VALUE=DURATION:PT1H
X-Robots-Tag:noindex
X-PUBLISHED-TTL:PT1H
BEGIN:VTIMEZONE
TZID:America/Edmonton
BEGIN:DAYLIGHT
TZOFFSETFROM:-0700
TZOFFSETTO:-0600
TZNAME:MDT
DTSTART:20250309T090000
END:DAYLIGHT
BEGIN:STANDARD
TZOFFSETFROM:-0600
TZOFFSETTO:-0700
TZNAME:MST
DTSTART:20251102T080000
END:STANDARD
BEGIN:DAYLIGHT
TZOFFSETFROM:-0700
TZOFFSETTO:-0600
TZNAME:MDT
DTSTART:20260308T090000
END:DAYLIGHT
BEGIN:STANDARD
TZOFFSETFROM:-0600
TZOFFSETTO:-0700
TZNAME:MST
DTSTART:20261101T080000
END:STANDARD
BEGIN:DAYLIGHT
TZOFFSETFROM:-0700
TZOFFSETTO:-0600
TZNAME:MDT
DTSTART:20270314T090000
END:DAYLIGHT
BEGIN:STANDARD
TZOFFSETFROM:-0600
TZOFFSETTO:-0700
TZNAME:MST
DTSTART:20271107T080000
END:STANDARD
END:VTIMEZONE
BEGIN:VEVENT
DTSTART;TZID=America/Edmonton:20260425T100000
DTEND;TZID=America/Edmonton:20260425T150000
DTSTAMP:20260423T171128
CREATED:20260423T200300Z
LAST-MODIFIED:20260423T200318Z
UID:10000321-1777111200-1777129200@caedm.ca
SUMMARY:Society of St. Vincent de Paul Spring Charity Sale
DESCRIPTION:
URL:https://caedm.ca/event/society-of-st-vincent-de-paul-spring-charity-sale/2026-04-25/
LOCATION:St. Andrew’s Centre\, 12720 111 Ave NW\, Edmonton\, Alberta\, T5M 3X3\, Canada
ATTACH;FMTTYPE=image/png:https://caedm.ca/wp-content/uploads/2026/04/2026-Spring-Charity-SaleR-8.5x11.png
END:VEVENT
BEGIN:VEVENT
DTSTART;TZID=America/Edmonton:20260423T120000
DTEND;TZID=America/Edmonton:20260423T190000
DTSTAMP:20260423T171128
CREATED:20260423T200300Z
LAST-MODIFIED:20260423T200318Z
UID:10000318-1776945600-1776970800@caedm.ca
SUMMARY:Society of St. Vincent de Paul Spring Charity Sale
DESCRIPTION:
URL:https://caedm.ca/event/society-of-st-vincent-de-paul-spring-charity-sale/2026-04-23/
LOCATION:St. Andrew’s Centre\, 12720 111 Ave NW\, Edmonton\, Alberta\, T5M 3X3\, Canada
ATTACH;FMTTYPE=image/png:https://caedm.ca/wp-content/uploads/2026/04/2026-Spring-Charity-SaleR-8.5x11.png
END:VEVENT
BEGIN:VEVENT
DTSTART;TZID=America/Edmonton:20260424T120000
DTEND;TZID=America/Edmonton:20260424T190000
DTSTAMP:20260423T171128
CREATED:20260423T200300Z
LAST-MODIFIED:20260423T200318Z
UID:10000320-1777032000-1777057200@caedm.ca
SUMMARY:Society of St. Vincent de Paul Spring Charity Sale
DESCRIPTION:
URL:https://caedm.ca/event/society-of-st-vincent-de-paul-spring-charity-sale/2026-04-24/
LOCATION:St. Andrew’s Centre\, 12720 111 Ave NW\, Edmonton\, Alberta\, T5M 3X3\, Canada
ATTACH;FMTTYPE=image/png:https://caedm.ca/wp-content/uploads/2026/04/2026-Spring-Charity-SaleR-8.5x11.png
END:VEVENT
END:VCALENDAR