BEGIN:VCALENDAR
VERSION:2.0
PRODID:-//The Catholic Archdiocese of Edmonton - CAEDM - ECPv6.15.20//NONSGML v1.0//EN
CALSCALE:GREGORIAN
METHOD:PUBLISH
X-WR-CALNAME:The Catholic Archdiocese of Edmonton - CAEDM
X-ORIGINAL-URL:https://caedm.ca
X-WR-CALDESC:Events for The Catholic Archdiocese of Edmonton - CAEDM
REFRESH-INTERVAL;VALUE=DURATION:PT1H
X-Robots-Tag:noindex
X-PUBLISHED-TTL:PT1H
BEGIN:VTIMEZONE
TZID:America/Edmonton
BEGIN:DAYLIGHT
TZOFFSETFROM:-0700
TZOFFSETTO:-0600
TZNAME:MDT
DTSTART:20250309T090000
END:DAYLIGHT
BEGIN:STANDARD
TZOFFSETFROM:-0600
TZOFFSETTO:-0700
TZNAME:MST
DTSTART:20251102T080000
END:STANDARD
BEGIN:DAYLIGHT
TZOFFSETFROM:-0700
TZOFFSETTO:-0600
TZNAME:MDT
DTSTART:20260308T090000
END:DAYLIGHT
BEGIN:STANDARD
TZOFFSETFROM:-0600
TZOFFSETTO:-0700
TZNAME:MST
DTSTART:20261101T080000
END:STANDARD
BEGIN:DAYLIGHT
TZOFFSETFROM:-0700
TZOFFSETTO:-0600
TZNAME:MDT
DTSTART:20270314T090000
END:DAYLIGHT
BEGIN:STANDARD
TZOFFSETFROM:-0600
TZOFFSETTO:-0700
TZNAME:MST
DTSTART:20271107T080000
END:STANDARD
END:VTIMEZONE
BEGIN:VEVENT
DTSTART;TZID=America/Edmonton:20260422T183000
DTEND;TZID=America/Edmonton:20260422T203000
DTSTAMP:20260419T153651
CREATED:20260325T195658Z
LAST-MODIFIED:20260325T195754Z
UID:10000294-1776882600-1776889800@caedm.ca
SUMMARY:Take Your Soul to Work Day: An Evening of Encouragement for Entrepreneurs
DESCRIPTION:Join us for an evening of inspiration especially for entrepreneurs of all sorts. Cody Lakevold seemingly had it all\, until Iife got in the way.  \nA central component of his story centres around a return to God. Cody is an experienced speaker and has written a book about his experiences – Longship: From Tragedy to Triumph. It is the true story of healing\, reckoning\, and rebuilding. It traces Cody’s journey through grief\, resilience\, and ultimately transformation—not by his own strength\, but by forging a new path. \nThe book is recommended reading for this session.  \nRegister online\, by email\, or by phone: www.starofthenorth.ca 780-459-5511 execassistant@starofthenorth.ca \nApril 22  6:30pm-8:30pm     $50     Facilitator: Cody Lakevold
URL:https://caedm.ca/event/take-your-soul-to-work-day-evening/
LOCATION:Star of the North Retreat Centre\, 3A St. Vital Avenue\, Saint Albert\, AB\, T8N 1K1\, Canada
CATEGORIES:Faith Formation,Pastoral Ministry,Retreats and Workshops
ATTACH;FMTTYPE=image/bmp:https://caedm.ca/wp-content/uploads/2026/03/StarOfTheNorthLOGO.bmp
END:VEVENT
BEGIN:VEVENT
DTSTART;TZID=America/Edmonton:20260422T183000
DTEND;TZID=America/Edmonton:20260422T203000
DTSTAMP:20260419T153651
CREATED:20260220T182420Z
LAST-MODIFIED:20260220T182420Z
UID:10000232-1776882600-1776889800@caedm.ca
SUMMARY:Take Your Soul to Work Day: An Evening of Encouragement for Entrepreneurs
DESCRIPTION:Join us for an evening of inspiration especially for entrepreneurs of all sorts. \nCody Lakevold seemingly had it all\, until life got in the way. A central component of his story centres around a return to God. \nCody is an experienced speaker and has written a bookabout his experiences – Longship: From Tragedy to Triumph. It is the true story of healing\, reckoning\, and rebuilding. It traces Cody’s journey through grief\, resilience\, and ultimately transformation—not by his own strength\, but by forging a new path.  The book is recommended reading for this session. \nRegister online\, by email\, or by phone: www.starofthenorth.ca 780-459-5511 execassistant@starofthenorth.ca \nApril 22  6:30pm-8:30pm     $50     Facilitator: Cody Lakevold
URL:https://caedm.ca/event/take-your-soul-to-work-day-an-evening-of-encouragement-for-entrepreneurs/
LOCATION:Star of the North Retreat Centre\, 3A St. Vital Avenue\, Saint Albert\, AB\, T8N 1K1\, Canada
CATEGORIES:Retreats and Workshops
ATTACH;FMTTYPE=image/jpeg:https://caedm.ca/wp-content/uploads/2026/02/SUNDAY-Mar-22-29-Apr-5-12-Take-Your-Soul-To-Work-Day-Large.jpeg
END:VEVENT
BEGIN:VEVENT
DTSTART;TZID=America/Edmonton:20260422T090000
DTEND;TZID=America/Edmonton:20260422T150000
DTSTAMP:20260419T153651
CREATED:20260220T182132Z
LAST-MODIFIED:20260220T182218Z
UID:10000231-1776848400-1776870000@caedm.ca
SUMMARY:Take Your Soul to Work Day: A Day of Renewal for Those Who Keep Things Running
DESCRIPTION:We welcome administrative professionals to a day of encouragement and refreshment. Join Lucie Leduc and Joy Ronald\, as well as some local practitioners\, for a day of peaceful sharing and reflection. \nPrepare for optional creative activities and practical tools you can take back to work to keep you productive and peaceful. \nRegister online\, by email\, or by phone: www.starofthenorth.ca 780-459-5511 execassistant@starofthenorth.ca \nApril 22 9am-3pm     $30     Facilitators: Lucie Leduc and Joy Ronald
URL:https://caedm.ca/event/take-your-soul-to-work-day-a-day-of-renewal-for-those-who-keep-things-running/
LOCATION:Star of the North Retreat Centre\, 3A St. Vital Avenue\, Saint Albert\, AB\, T8N 1K1\, Canada
CATEGORIES:Retreats and Workshops
ATTACH;FMTTYPE=image/jpeg:https://caedm.ca/wp-content/uploads/2026/02/SUNDAY-Mar-22-29-Apr-5-12-Take-Your-Soul-To-Work-Day-Large.jpeg
END:VEVENT
BEGIN:VEVENT
DTSTART;TZID=America/Edmonton:20260421T190000
DTEND;TZID=America/Edmonton:20260421T210000
DTSTAMP:20260419T153651
CREATED:20260324T171516Z
LAST-MODIFIED:20260416T203422Z
UID:10000289-1776798000-1776805200@caedm.ca
SUMMARY:Is Life Always Worth Living? Responding to the Rise of “MAID” in our Society
DESCRIPTION:Presenter: Amanda Achtman \n\n6:15 pm Mass celebrated by Archbishop Stephen Hero\n7:00 pm Presentation\n\nMany people think that there are circumstances under which it is reasonable for someone to ask someone else to end their life. In the jurisdictions where euthanasia is legal\, there has tended to be an increase in the number of people opting for it. Some of the reasons listed in government reports are due to cancer\, chronic illness\, or disability. \nDoes life lose its sense in the face of suffering? Or\, is life always worth living? \nCome get inspired to encounter\, understand\, and overcome the euthanasia temptation. Filled with stories\, this talk will equip you to better engage in these conversations and experiences in your own life because this concerns all of us. \nNo cost. No registration required. Everyone welcome! \nApril 21\, 7-9 pm\nOur Lady of Perpetual Help Parish\n13 Brower Drive\, Sherwood Park\nLivestream: https://youtube.com/live/MnAZldmKs-c
URL:https://caedm.ca/event/is-life-always-worth-living-responding-to-the-rise-of-maid-in-our-society/
LOCATION:Our Lady of Perpetual Help\, Sh Pk\, 13 Brower Dr\, Sherwood Park\, Alberta\, T8H 1Y7\, Canada
CATEGORIES:Faith Formation,Mass-Liturgy-Etc,Retreats and Workshops
ATTACH;FMTTYPE=image/png:https://caedm.ca/wp-content/uploads/2026/03/Life-worth-living-ad.png
END:VEVENT
BEGIN:VEVENT
DTSTART;TZID=America/Edmonton:20260421T190000
DTEND;TZID=America/Edmonton:20260421T200000
DTSTAMP:20260419T153651
CREATED:20260226T174848Z
LAST-MODIFIED:20260227T161124Z
UID:10000249-1776798000-1776801600@caedm.ca
SUMMARY:Workaholics Anonymous
DESCRIPTION:Do you ever relax?\nDoes your boss praise your willingness to go the “extra mile” but is unaware that your life is rushed and over-committed? Maybe your health is taking second place to your job and your family wishes you had more time for them? Are you missing a connection to your spiritual side? Perhaps you are burnt out and have lost all desire to do anything. \nHave you almost forgotten what play and relaxation feel like? These stresses are not just associated with paid work\, but can also surface as hobbies\, exercise\, housework\, or just trying to save the world. \nHere’s a solution\nIf this sounds like your life\, you may benefit by meeting with people who share these problems and are finding a solution in Workaholics Anonymous. We invite you to attend our 12 Step open meetings. We gather to share our experience\, strength and hope for a life of serenity and joy. All are welcome! \nMeetings are held 1st and 3rd Tuesdays of the month\, 7 – 8 p.m.\nLocation: Star of the North Retreat Centre\, 3A St. Vital Avenue in St. Albert. A Zoom link is also provided for those who are unable to attend in-person.
URL:https://caedm.ca/event/workaholics-anonymous-4/
LOCATION:Star of the North Retreat Centre\, 3A St. Vital Avenue\, Saint Albert\, AB\, T8N 1K1\, Canada
CATEGORIES:Pastoral Ministry,Retreats and Workshops
ATTACH;FMTTYPE=image/jpeg:https://caedm.ca/wp-content/uploads/2026/02/Workaholics-Anon.jpg
END:VEVENT
BEGIN:VEVENT
DTSTART;TZID=America/Edmonton:20260419T140000
DTEND;TZID=America/Edmonton:20260419T153000
DTSTAMP:20260419T153651
CREATED:20260324T171134Z
LAST-MODIFIED:20260331T183325Z
UID:10000288-1776607200-1776612600@caedm.ca
SUMMARY:Conversation Café: What does it mean to die with dignity? Let’s talk about it.
DESCRIPTION:April 19\, 2:00-3:30 pm \nFacilitated by: Amanda Achtman \nOur Lady of Perpetual Help Parish\, 13 Brower Drive\, Sherwood Park \nThose who promote euthanasia call it “dying with dignity.” Does that mean those who die naturally die without dignity? What is human dignity\, anyway\, and where does it come from? How does our Catholic faith offer real hope and true dignity to those who are suffering and dying? Join this important conversation hosted by OLPH Compassionate Parish and Young Adults. \nNo cost. No registration required. Everyone welcome!
URL:https://caedm.ca/event/conversation-cafe-what-does-it-mean-to-die-with-dignity-lets-talk-about-it/
LOCATION:Our Lady of Perpetual Help\, Sh Pk\, 13 Brower Dr\, Sherwood Park\, Alberta\, T8H 1Y7\, Canada
CATEGORIES:Faith Formation,Retreats and Workshops
ATTACH;FMTTYPE=image/png:https://caedm.ca/wp-content/uploads/2026/03/Conversation-Cafe-April-19-bulletin.png
END:VEVENT
BEGIN:VEVENT
DTSTART;TZID=America/Edmonton:20260418T183000
DTEND;TZID=America/Edmonton:20260418T193000
DTSTAMP:20260419T153651
CREATED:20260320T184417Z
LAST-MODIFIED:20260320T184417Z
UID:10000283-1776537000-1776540600@caedm.ca
SUMMARY:Charismatic Mass with Healing Service
DESCRIPTION:April 18th starts at 6:30pm \nSt. Emeric Catholic Church \n12960 112 St NW\, Edmonton\, AB T5E 6J1
URL:https://caedm.ca/event/charismatic-mass-with-healing-service-apr-18/
LOCATION:St. Emeric (Hungarian) Parish\, 12960 112 St NW\, Edmonton\, Alberta\, T5E 6J1\, Canada
CATEGORIES:Mass-Liturgy-Etc
ATTACH;FMTTYPE=image/jpeg:https://caedm.ca/wp-content/uploads/2026/03/April-.jpg
END:VEVENT
BEGIN:VEVENT
DTSTART;TZID=America/Edmonton:20260418T090000
DTEND;TZID=America/Edmonton:20260418T120000
DTSTAMP:20260419T153651
CREATED:20260316T184729Z
LAST-MODIFIED:20260316T190140Z
UID:10000281-1776502800-1776513600@caedm.ca
SUMMARY:Extraordinary Ministers of Holy Communion\, Community Visitors Workshop
DESCRIPTION:The Archdiocese of Edmonton is hosting a half-day workshop for parishioners who would like to bring Holy Communion to shut-ins at home\, and the sick in our care centers and hospitals.\n \nThe workshop will be held at St. Michael’s Parish in Leduc on Saturday\, April 18\, from 9 am – 12 noon. \nPlease register by Friday\, April 3. \nRegistration link: https://forms.gle/JAa1UVydANk2xbWT8
URL:https://caedm.ca/event/extraordinary-ministers-of-holy-communion-community-visitors-workshop/
LOCATION:St. Michael Parish – Leduc\, 5105 45a Street\, Leduc\, AB\, T9E 5W8\, Canada
CATEGORIES:Mass-Liturgy-Etc,Pastoral Ministry,Retreats and Workshops,Vocations
ATTACH;FMTTYPE=image/jpeg:https://caedm.ca/wp-content/uploads/2026/03/Certificate-Program-for-Community-Visitors.jpg
END:VEVENT
BEGIN:VEVENT
DTSTART;TZID=America/Edmonton:20260418T090000
DTEND;TZID=America/Edmonton:20260418T120000
DTSTAMP:20260419T153651
CREATED:20260109T205500Z
LAST-MODIFIED:20260416T150310Z
UID:10000311-1776502800-1776513600@caedm.ca
SUMMARY:Via Lucis (The Way of the Light) Stations of the Resurrection at Holy Cross Mausoleum
DESCRIPTION:
URL:https://caedm.ca/event/via-lucis-the-way-of-the-light-stations-of-the-resurrection-april-18/
LOCATION:Holy Cross Cemetery and Mausoleum\, 14611 Mark Messier Trail NW\, Edmonton\, Alberta\, T6V 1H4\, Canada
CATEGORIES:Prayer Novena or Rosary
ATTACH;FMTTYPE=image/jpeg:https://caedm.ca/wp-content/uploads/2026/04/Join-Us-for-the-Via-Lucis-The-Way-of-Light-You-are-warmly-invited-to-walk-with-us-through-the-Stations-of-the-Resurrection.-While-we-often-walk-the-path-t-002.jpg
END:VEVENT
END:VCALENDAR